BEGIN:VCALENDAR
VERSION:2.0
PRODID:-//wp-events-plugin.com//7.2.3.1//EN
BEGIN:VEVENT
UID:0-65@tubize-tuclasakoi.be
DTSTART;TZID=Africa/Abidjan:20260401T150000
DTEND;TZID=Africa/Abidjan:20260401T160000
DTSTAMP:20250926T101416Z
URL:https://www.tubize-tuclasakoi.be/evenements/mercredhistoires-21/
SUMMARY:Mercred'Histoires
DESCRIPTION:\nLe premier mercredi du mois à 15h\, les enfants dès 3 ans s
 ont invités avec un parent au Centre culturel de Tubize pour découvrir l
 es belles histories de la bibliothèque.\nAu programme? Une séance de lec
 ture d’albums sortis de nos coffres aux trésors !\nC’est gratuit ! Ma
 is il faut réserver !\n&nbsp\;\n\n\n\n\n\n\nInformations pratiques\nAu pr
 ogramme\nDes contes pour les enfants dès 3 ans\nOù ?\nCentre Culturel de
  Tubize\, Théâtre du Gymnase\nBoulevard Georges Deryck\, 124\nGratuit !\
 n\n&nbsp\;\n\nRéservation obligatoire\nPlaces limitées\n\nAu comptoir de
  prêt \nPar téléphone\n02/391.39.15\n\n\n\nPar mail\nbibliotheques@tubi
 ze.be\n\n\n\n
ATTACH;FMTTYPE=image/jpeg:https://i0.wp.com/www.tubize-tuclasakoi.be/wp-co
 ntent/uploads/2025/09/Mercredhistoires-.jpg?fit=400%2C565&ssl=1
CATEGORIES:Heure du conte
LOCATION:Centre culturel de Tubize\, Boulevard Georges Deryck\, 124\, Tubiz
 e\, 1480\, Belgique
X-APPLE-STRUCTURED-LOCATION;VALUE=URI;X-ADDRESS=Boulevard Georges Deryck\, 
 124\, Tubize\, 1480\, Belgique;X-APPLE-RADIUS=100;X-TITLE=Centre culturel 
 de Tubize:geo:0,0
END:VEVENT
BEGIN:VTIMEZONE
TZID:Africa/Abidjan
X-LIC-LOCATION:Africa/Abidjan
BEGIN:STANDARD
DTSTART:20250401T150000
TZOFFSETFROM:+0000
TZOFFSETTO:+0000
TZNAME:GMT
END:STANDARD
END:VTIMEZONE
END:VCALENDAR